Package: gpls Version: 1.82.0 Command: /home/biocbuild/R/R/bin/R CMD INSTALL gpls StartedAt: 2025-11-20 21:45:33 -0000 (Thu, 20 Nov 2025) EndedAt: 2025-11-20 21:45:41 -0000 (Thu, 20 Nov 2025) EllapsedTime: 7.6 seconds RetCode: 0 Status: OK