Package: gpls Version: 1.82.0 Command: /home/biocbuild/R/R/bin/R CMD build --keep-empty-dirs --no-resave-data gpls StartedAt: 2025-11-21 02:57:59 -0000 (Fri, 21 Nov 2025) EndedAt: 2025-11-21 02:58:14 -0000 (Fri, 21 Nov 2025) EllapsedTime: 15.0 seconds RetCode: 0 Status: OK PackageFile: gpls_1.82.0.tar.gz PackageFileSize: 226.1 KiB