Package: gpls Version: 1.81.0 Command: /Library/Frameworks/R.framework/Resources/bin/R CMD INSTALL gpls StartedAt: 2025-10-24 15:12:25 -0400 (Fri, 24 Oct 2025) EndedAt: 2025-10-24 15:12:39 -0400 (Fri, 24 Oct 2025) EllapsedTime: 13.5 seconds RetCode: 0 Status: OK