Package: gpls Version: 1.81.0 Command: /Library/Frameworks/R.framework/Resources/bin/R CMD build --keep-empty-dirs --no-resave-data gpls StartedAt: 2025-10-24 17:18:15 -0400 (Fri, 24 Oct 2025) EndedAt: 2025-10-24 17:18:30 -0400 (Fri, 24 Oct 2025) EllapsedTime: 14.8 seconds RetCode: 0 Status: OK PackageFile: gpls_1.81.0.tar.gz PackageFileSize: 232.8 KiB