Package: goseq Version: 1.61.1 Command: /home/biocbuild/bbs-3.22-bioc/R/bin/R CMD build --keep-empty-dirs --no-resave-data --md5 goseq StartedAt: 2025-10-24 18:06:17 -0400 (Fri, 24 Oct 2025) EndedAt: 2025-10-24 18:09:40 -0400 (Fri, 24 Oct 2025) EllapsedTime: 203.2 seconds RetCode: 0 Status: OK PackageFile: goseq_1.61.1.tar.gz PackageFileSize: 1.836 MiB