Package: goseq Version: 1.62.0 Command: /Library/Frameworks/R.framework/Resources/bin/R CMD INSTALL goseq StartedAt: 2025-11-03 15:41:34 -0500 (Mon, 03 Nov 2025) EndedAt: 2025-11-03 15:42:23 -0500 (Mon, 03 Nov 2025) EllapsedTime: 49.3 seconds RetCode: 0 Status: OK