Package: goseq Version: 1.62.0 Command: /Library/Frameworks/R.framework/Resources/bin/R CMD build --keep-empty-dirs --no-resave-data goseq StartedAt: 2025-11-03 17:13:55 -0500 (Mon, 03 Nov 2025) EndedAt: 2025-11-03 17:18:32 -0500 (Mon, 03 Nov 2025) EllapsedTime: 277.5 seconds RetCode: 0 Status: OK PackageFile: goseq_1.62.0.tar.gz PackageFileSize: 1.832 MiB