Package: goseq Version: 1.62.0 Command: rm -rf goseq.buildbin-libdir && mkdir goseq.buildbin-libdir && /Users/biocbuild/BBS/utils/build-universal.sh goseq_1.62.0.tar.gz /Library/Frameworks/R.framework/Resources/bin/R goseq.buildbin-libdir StartedAt: 2025-11-04 01:43:16 -0500 (Tue, 04 Nov 2025) EndedAt: 2025-11-04 01:44:09 -0500 (Tue, 04 Nov 2025) EllapsedTime: 53.1 seconds RetCode: 0 Status: OK PackageFile: goseq_1.62.0.tgz PackageFileSize: 1.879 MiB