Package: goseq Version: 1.61.1 Command: /Library/Frameworks/R.framework/Resources/bin/R CMD INSTALL goseq StartedAt: 2025-10-24 15:26:57 -0400 (Fri, 24 Oct 2025) EndedAt: 2025-10-24 15:27:12 -0400 (Fri, 24 Oct 2025) EllapsedTime: 15.2 seconds RetCode: 0 Status: OK