Package: goseq Version: 1.61.1 Command: /Library/Frameworks/R.framework/Resources/bin/R CMD build --keep-empty-dirs --no-resave-data goseq StartedAt: 2025-10-24 16:37:39 -0400 (Fri, 24 Oct 2025) EndedAt: 2025-10-24 16:39:22 -0400 (Fri, 24 Oct 2025) EllapsedTime: 103.1 seconds RetCode: 0 Status: OK PackageFile: goseq_1.61.1.tar.gz PackageFileSize: 1.836 MiB