Package: goatea Version: 0.99.9 Command: /home/biocbuild/bbs-3.22-bioc/R/bin/R CMD INSTALL goatea StartedAt: 2025-10-24 15:57:29 -0400 (Fri, 24 Oct 2025) EndedAt: 2025-10-24 15:57:57 -0400 (Fri, 24 Oct 2025) EllapsedTime: 27.9 seconds RetCode: 0 Status: OK