Package: goatea Version: 0.99.9 Command: /home/biocbuild/bbs-3.22-bioc/R/bin/R CMD build --keep-empty-dirs --no-resave-data --md5 goatea StartedAt: 2025-10-24 18:05:26 -0400 (Fri, 24 Oct 2025) EndedAt: 2025-10-24 18:07:29 -0400 (Fri, 24 Oct 2025) EllapsedTime: 123.1 seconds RetCode: 1 Status: ERROR PackageFile: None PackageFileSize: NA