Package: goatea Version: 0.99.9 Command: /Library/Frameworks/R.framework/Resources/bin/R CMD build --keep-empty-dirs --no-resave-data goatea StartedAt: 2025-10-24 16:37:16 -0400 (Fri, 24 Oct 2025) EndedAt: 2025-10-24 16:38:11 -0400 (Fri, 24 Oct 2025) EllapsedTime: 54.6 seconds RetCode: 1 Status: ERROR PackageFile: None PackageFileSize: NA