Package: goatea Version: 0.99.9 Command: rm -rf goatea.buildbin-libdir && mkdir goatea.buildbin-libdir && /Users/biocbuild/BBS/utils/build-universal.sh goatea_0.99.9.tar.gz /Library/Frameworks/R.framework/Resources/bin/R goatea.buildbin-libdir StartedAt: 2025-10-22 23:02:48 -0400 (Wed, 22 Oct 2025) EndedAt: 2025-10-22 23:03:01 -0400 (Wed, 22 Oct 2025) EllapsedTime: 13.3 seconds RetCode: 0 Status: OK PackageFile: goatea_0.99.9.tgz PackageFileSize: 2.023 MiB