Package: goTools Version: 1.83.0 Command: /home/biocbuild/bbs-3.22-bioc/R/bin/R CMD build --keep-empty-dirs --no-resave-data --md5 goTools StartedAt: 2025-10-24 18:07:12 -0400 (Fri, 24 Oct 2025) EndedAt: 2025-10-24 18:07:31 -0400 (Fri, 24 Oct 2025) EllapsedTime: 19.0 seconds RetCode: 0 Status: OK PackageFile: goTools_1.83.0.tar.gz PackageFileSize: 242.4 KiB