Package: goTools Version: 1.83.0 Command: /Library/Frameworks/R.framework/Resources/bin/R CMD build --keep-empty-dirs --no-resave-data goTools StartedAt: 2025-10-24 17:18:12 -0400 (Fri, 24 Oct 2025) EndedAt: 2025-10-24 17:18:37 -0400 (Fri, 24 Oct 2025) EllapsedTime: 25.1 seconds RetCode: 0 Status: OK PackageFile: goTools_1.83.0.tar.gz PackageFileSize: 241.4 KiB