Package: goTools Version: 1.83.0 Command: /Library/Frameworks/R.framework/Resources/bin/R CMD INSTALL goTools StartedAt: 2025-10-24 15:27:05 -0400 (Fri, 24 Oct 2025) EndedAt: 2025-10-24 15:27:10 -0400 (Fri, 24 Oct 2025) EllapsedTime: 5.4 seconds RetCode: 0 Status: OK