Package: goProfiles Version: 1.71.0 Command: /home/biocbuild/bbs-3.22-bioc/R/bin/R CMD build --keep-empty-dirs --no-resave-data --md5 goProfiles StartedAt: 2025-10-24 18:06:10 -0400 (Fri, 24 Oct 2025) EndedAt: 2025-10-24 18:06:46 -0400 (Fri, 24 Oct 2025) EllapsedTime: 36.0 seconds RetCode: 0 Status: OK PackageFile: goProfiles_1.71.0.tar.gz PackageFileSize: 293.2 KiB