Package: goProfiles Version: 1.72.0 Command: /Library/Frameworks/R.framework/Resources/bin/R CMD build --keep-empty-dirs --no-resave-data goProfiles StartedAt: 2025-10-31 16:39:17 -0400 (Fri, 31 Oct 2025) EndedAt: 2025-10-31 16:39:34 -0400 (Fri, 31 Oct 2025) EllapsedTime: 17.2 seconds RetCode: 0 Status: OK PackageFile: goProfiles_1.72.0.tar.gz PackageFileSize: 288.5 KiB