Package: gmoviz Version: 1.22.0 Command: /home/biocbuild/bbs-3.22-bioc/R/bin/R CMD INSTALL gmoviz StartedAt: 2025-11-03 16:01:06 -0500 (Mon, 03 Nov 2025) EndedAt: 2025-11-03 16:01:44 -0500 (Mon, 03 Nov 2025) EllapsedTime: 38.0 seconds RetCode: 0 Status: OK