Package: gmapR Version: 1.51.1 Command: /home/biocbuild/bbs-3.22-bioc/R/bin/R CMD INSTALL gmapR StartedAt: 2025-10-24 15:51:46 -0400 (Fri, 24 Oct 2025) EndedAt: 2025-10-24 15:58:42 -0400 (Fri, 24 Oct 2025) EllapsedTime: 416.1 seconds RetCode: 0 Status: OK