Package: globaltest Version: 5.64.0 Command: /Library/Frameworks/R.framework/Resources/bin/R CMD INSTALL globaltest StartedAt: 2025-11-10 15:09:30 -0500 (Mon, 10 Nov 2025) EndedAt: 2025-11-10 15:09:38 -0500 (Mon, 10 Nov 2025) EllapsedTime: 8.9 seconds RetCode: 0 Status: OK