Package: globaltest Version: 5.64.0 Command: /Library/Frameworks/R.framework/Resources/bin/R CMD build --keep-empty-dirs --no-resave-data globaltest StartedAt: 2025-11-10 16:34:24 -0500 (Mon, 10 Nov 2025) EndedAt: 2025-11-10 17:14:24 -0500 (Mon, 10 Nov 2025) EllapsedTime: 2400.1 seconds RetCode: None Status: TIMEOUT PackageFile: None PackageFileSize: NA