Package: globalSeq Version: 1.38.0 Command: /Library/Frameworks/R.framework/Resources/bin/R CMD INSTALL globalSeq StartedAt: 2025-11-03 15:13:07 -0500 (Mon, 03 Nov 2025) EndedAt: 2025-11-03 15:14:12 -0500 (Mon, 03 Nov 2025) EllapsedTime: 65.7 seconds RetCode: 0 Status: OK