Package: globalSeq Version: 1.38.0 Command: /Library/Frameworks/R.framework/Resources/bin/R CMD build --keep-empty-dirs --no-resave-data globalSeq StartedAt: 2025-11-02 17:15:55 -0500 (Sun, 02 Nov 2025) EndedAt: 2025-11-02 17:16:15 -0500 (Sun, 02 Nov 2025) EllapsedTime: 19.4 seconds RetCode: 0 Status: OK PackageFile: globalSeq_1.38.0.tar.gz PackageFileSize: 713.9 KiB