Package: globalSeq Version: 1.38.0 Command: rm -rf globalSeq.buildbin-libdir && mkdir globalSeq.buildbin-libdir && /Users/biocbuild/BBS/utils/build-universal.sh globalSeq_1.38.0.tar.gz /Library/Frameworks/R.framework/Resources/bin/R globalSeq.buildbin-libdir StartedAt: 2025-11-04 01:43:08 -0500 (Tue, 04 Nov 2025) EndedAt: 2025-11-04 01:43:16 -0500 (Tue, 04 Nov 2025) EllapsedTime: 8.2 seconds RetCode: 0 Status: OK PackageFile: globalSeq_1.38.0.tgz PackageFileSize: 710.8 KiB