Package: globalSeq Version: 1.37.0 Command: /Library/Frameworks/R.framework/Resources/bin/R CMD INSTALL globalSeq StartedAt: 2025-10-24 15:06:17 -0400 (Fri, 24 Oct 2025) EndedAt: 2025-10-24 15:06:32 -0400 (Fri, 24 Oct 2025) EllapsedTime: 14.5 seconds RetCode: 0 Status: OK