Package: globalSeq Version: 1.38.0 Maintainer: Armin Rauschenberger MaintainerEmail: armin.rauschenberger at uni.lu git_url: https://git.bioconductor.org/packages/globalSeq git_branch: RELEASE_3_22 git_last_commit: 659d1e4 git_last_commit_date: 2025-10-29 10:28:42 -0400 (Wed, 29 Oct 2025)