Package: glmSparseNet Version: 1.27.0 Command: /home/biocbuild/R/R/bin/R CMD INSTALL glmSparseNet StartedAt: 2025-10-23 21:07:23 -0000 (Thu, 23 Oct 2025) EndedAt: 2025-10-23 21:07:27 -0000 (Thu, 23 Oct 2025) EllapsedTime: 4.0 seconds RetCode: 0 Status: OK