Package: glmSparseNet Version: 1.27.0 Command: /home/biocbuild/R/R/bin/R CMD build --keep-empty-dirs --no-resave-data glmSparseNet StartedAt: 2025-10-21 00:08:32 -0000 (Tue, 21 Oct 2025) EndedAt: 2025-10-21 00:16:49 -0000 (Tue, 21 Oct 2025) EllapsedTime: 497.1 seconds RetCode: 0 Status: OK PackageFile: glmSparseNet_1.27.0.tar.gz PackageFileSize: 2.209 MiB