Package: glmSparseNet Version: 1.28.0 Command: /Library/Frameworks/R.framework/Resources/bin/R CMD check --install=check:glmSparseNet.install-out.txt --library=/Library/Frameworks/R.framework/Resources/library --no-vignettes --timings glmSparseNet_1.28.0.tar.gz StartedAt: 2025-11-03 21:37:15 -0500 (Mon, 03 Nov 2025) EndedAt: 2025-11-03 21:39:22 -0500 (Mon, 03 Nov 2025) EllapsedTime: 127.2 seconds RetCode: 0 Status: OK CheckDir: glmSparseNet.Rcheck Warnings: 0