Package: glmSparseNet Version: 1.27.0 Command: /Library/Frameworks/R.framework/Resources/bin/R CMD build --keep-empty-dirs --no-resave-data glmSparseNet StartedAt: 2025-10-24 17:16:04 -0400 (Fri, 24 Oct 2025) EndedAt: 2025-10-24 17:20:28 -0400 (Fri, 24 Oct 2025) EllapsedTime: 263.8 seconds RetCode: 0 Status: OK PackageFile: glmSparseNet_1.27.0.tar.gz PackageFileSize: 2.797 MiB