Package: glmSparseNet Version: 1.27.0 Command: rm -rf glmSparseNet.buildbin-libdir && mkdir glmSparseNet.buildbin-libdir && /Users/biocbuild/BBS/utils/build-universal.sh glmSparseNet_1.27.0.tar.gz /Library/Frameworks/R.framework/Resources/bin/R glmSparseNet.buildbin-libdir StartedAt: 2025-10-25 01:43:03 -0400 (Sat, 25 Oct 2025) EndedAt: 2025-10-25 01:43:13 -0400 (Sat, 25 Oct 2025) EllapsedTime: 9.4 seconds RetCode: 0 Status: OK PackageFile: glmSparseNet_1.27.0.tgz PackageFileSize: 2.898 MiB