Package: glmSparseNet Version: 1.27.0 Command: /Library/Frameworks/R.framework/Resources/bin/R CMD INSTALL glmSparseNet StartedAt: 2025-10-27 15:22:38 -0400 (Mon, 27 Oct 2025) EndedAt: 2025-10-27 15:22:39 -0400 (Mon, 27 Oct 2025) EllapsedTime: 1.3 seconds RetCode: 0 Status: OK