Package: glmSparseNet Version: 1.27.0 Command: /Library/Frameworks/R.framework/Resources/bin/R CMD check --install=check:glmSparseNet.install-out.txt --library=/Library/Frameworks/R.framework/Resources/library --no-vignettes --timings glmSparseNet_1.27.0.tar.gz StartedAt: 2025-10-26 19:56:26 -0400 (Sun, 26 Oct 2025) EndedAt: 2025-10-26 19:57:11 -0400 (Sun, 26 Oct 2025) EllapsedTime: 45.5 seconds RetCode: 0 Status: OK CheckDir: glmSparseNet.Rcheck Warnings: 0