Package: glmSparseNet Version: 1.27.0 Command: /Library/Frameworks/R.framework/Resources/bin/R CMD build --keep-empty-dirs --no-resave-data glmSparseNet StartedAt: 2025-10-26 16:40:01 -0400 (Sun, 26 Oct 2025) EndedAt: 2025-10-26 17:02:03 -0400 (Sun, 26 Oct 2025) EllapsedTime: 1321.6 seconds RetCode: 0 Status: OK PackageFile: glmSparseNet_1.27.0.tar.gz PackageFileSize: 2.801 MiB