Package: glmSparseNet Version: 1.27.0 Command: rm -rf glmSparseNet.buildbin-libdir && mkdir glmSparseNet.buildbin-libdir && /Users/biocbuild/BBS/utils/build-universal.sh glmSparseNet_1.27.0.tar.gz /Library/Frameworks/R.framework/Resources/bin/R glmSparseNet.buildbin-libdir StartedAt: 2025-10-26 22:37:27 -0400 (Sun, 26 Oct 2025) EndedAt: 2025-10-26 22:37:29 -0400 (Sun, 26 Oct 2025) EllapsedTime: 2.0 seconds RetCode: 0 Status: OK PackageFile: glmSparseNet_1.27.0.tgz PackageFileSize: 2.905 MiB