Package: glmGamPoi Version: 1.21.0 Command: /home/biocbuild/bbs-3.22-bioc/R/bin/R CMD INSTALL glmGamPoi StartedAt: 2025-10-24 15:46:09 -0400 (Fri, 24 Oct 2025) EndedAt: 2025-10-24 15:47:07 -0400 (Fri, 24 Oct 2025) EllapsedTime: 57.2 seconds RetCode: 0 Status: OK