Package: glmGamPoi Version: 1.22.0 Command: /Library/Frameworks/R.framework/Resources/bin/R CMD INSTALL glmGamPoi StartedAt: 2025-11-04 15:12:32 -0500 (Tue, 04 Nov 2025) EndedAt: 2025-11-04 15:12:49 -0500 (Tue, 04 Nov 2025) EllapsedTime: 17.7 seconds RetCode: 0 Status: OK