Package: glmGamPoi Version: 1.22.0 Command: /Library/Frameworks/R.framework/Resources/bin/R CMD build --keep-empty-dirs --no-resave-data glmGamPoi StartedAt: 2025-11-02 16:33:15 -0500 (Sun, 02 Nov 2025) EndedAt: 2025-11-02 16:37:07 -0500 (Sun, 02 Nov 2025) EllapsedTime: 232.4 seconds RetCode: 0 Status: OK PackageFile: glmGamPoi_1.22.0.tar.gz PackageFileSize: 2.089 MiB