Package: ggtreeExtra Version: 1.19.1 Command: /home/biocbuild/bbs-3.22-bioc/R/bin/R CMD INSTALL ggtreeExtra StartedAt: 2025-10-24 15:21:07 -0400 (Fri, 24 Oct 2025) EndedAt: 2025-10-24 15:21:17 -0400 (Fri, 24 Oct 2025) EllapsedTime: 9.9 seconds RetCode: 0 Status: OK