Package: ggtreeExtra Version: 1.19.1 Command: /home/biocbuild/bbs-3.22-bioc/R/bin/R CMD build --keep-empty-dirs --no-resave-data --md5 ggtreeExtra StartedAt: 2025-10-24 18:01:58 -0400 (Fri, 24 Oct 2025) EndedAt: 2025-10-24 18:02:20 -0400 (Fri, 24 Oct 2025) EllapsedTime: 22.0 seconds RetCode: 0 Status: OK PackageFile: ggtreeExtra_1.19.1.tar.gz PackageFileSize: 527.8 KiB