Package: ggtreeExtra Version: 1.20.0 Command: /Library/Frameworks/R.framework/Resources/bin/R CMD build --keep-empty-dirs --no-resave-data ggtreeExtra StartedAt: 2025-11-03 17:12:11 -0500 (Mon, 03 Nov 2025) EndedAt: 2025-11-03 17:12:39 -0500 (Mon, 03 Nov 2025) EllapsedTime: 27.4 seconds RetCode: 0 Status: OK PackageFile: ggtreeExtra_1.20.0.tar.gz PackageFileSize: 939.6 KiB