Package: ggtreeExtra Version: 1.19.1 Command: /Library/Frameworks/R.framework/Resources/bin/R CMD INSTALL ggtreeExtra StartedAt: 2025-10-24 15:08:38 -0400 (Fri, 24 Oct 2025) EndedAt: 2025-10-24 15:08:45 -0400 (Fri, 24 Oct 2025) EllapsedTime: 6.9 seconds RetCode: 0 Status: OK