Package: ggtreeExtra Version: 1.19.1 Command: /Library/Frameworks/R.framework/Resources/bin/R CMD build --keep-empty-dirs --no-resave-data ggtreeExtra StartedAt: 2025-10-24 16:35:13 -0400 (Fri, 24 Oct 2025) EndedAt: 2025-10-24 16:35:22 -0400 (Fri, 24 Oct 2025) EllapsedTime: 9.1 seconds RetCode: 0 Status: OK PackageFile: ggtreeExtra_1.19.1.tar.gz PackageFileSize: 939.7 KiB