Package: ggtreeDendro Version: 1.11.0 Command: /home/biocbuild/bbs-3.22-bioc/R/bin/R CMD INSTALL ggtreeDendro StartedAt: 2025-10-27 15:12:56 -0400 (Mon, 27 Oct 2025) EndedAt: 2025-10-27 15:13:07 -0400 (Mon, 27 Oct 2025) EllapsedTime: 10.8 seconds RetCode: 0 Status: OK