Package: ggtreeDendro Version: 1.11.0 Command: /home/biocbuild/bbs-3.22-bioc/R/bin/R CMD build --keep-empty-dirs --no-resave-data --md5 ggtreeDendro StartedAt: 2025-10-27 17:53:07 -0400 (Mon, 27 Oct 2025) EndedAt: 2025-10-27 17:53:23 -0400 (Mon, 27 Oct 2025) EllapsedTime: 16.0 seconds RetCode: 0 Status: OK PackageFile: ggtreeDendro_1.11.0.tar.gz PackageFileSize: 426.5 KiB