Package: ggtree Version: 3.99.1 Command: /home/biocbuild/R/R/bin/R CMD check --install=check:ggtree.install-out.txt --library=/home/biocbuild/R/R/site-library --no-vignettes --timings ggtree_3.99.1.tar.gz StartedAt: 2025-10-17 09:37:47 -0000 (Fri, 17 Oct 2025) EndedAt: 2025-10-17 09:39:50 -0000 (Fri, 17 Oct 2025) EllapsedTime: 123.1 seconds RetCode: 0 Status: OK CheckDir: ggtree.Rcheck Warnings: 0