Package: ggtree Version: 3.99.2 Command: /home/biocbuild/bbs-3.22-bioc/R/bin/R CMD check --install=check:ggtree.install-out.txt --library=/home/biocbuild/bbs-3.22-bioc/R/site-library --timings ggtree_3.99.2.tar.gz StartedAt: 2025-10-25 00:11:52 -0400 (Sat, 25 Oct 2025) EndedAt: 2025-10-25 00:13:24 -0400 (Sat, 25 Oct 2025) EllapsedTime: 91.2 seconds RetCode: 0 Status: OK CheckDir: ggtree.Rcheck Warnings: 0