Package: ggtree Version: 4.0.1 Command: /Library/Frameworks/R.framework/Resources/bin/R CMD check --install=check:ggtree.install-out.txt --library=/Library/Frameworks/R.framework/Resources/library --no-vignettes --timings ggtree_4.0.1.tar.gz StartedAt: 2025-11-03 21:35:19 -0500 (Mon, 03 Nov 2025) EndedAt: 2025-11-03 21:37:15 -0500 (Mon, 03 Nov 2025) EllapsedTime: 115.7 seconds RetCode: 0 Status: OK CheckDir: ggtree.Rcheck Warnings: 0